BEGIN:VCALENDAR
VERSION:2.0
PRODID:-//Twenty Mile Tavern - ECPv6.15.20//NONSGML v1.0//EN
CALSCALE:GREGORIAN
METHOD:PUBLISH
X-ORIGINAL-URL:https://twentymiletavern.com
X-WR-CALDESC:Events for Twenty Mile Tavern
REFRESH-INTERVAL;VALUE=DURATION:PT1H
X-Robots-Tag:noindex
X-PUBLISHED-TTL:PT1H
BEGIN:VTIMEZONE
TZID:Asia/Karachi
BEGIN:STANDARD
TZOFFSETFROM:+0500
TZOFFSETTO:+0500
TZNAME:PKT
DTSTART:20180101T000000
END:STANDARD
END:VTIMEZONE
BEGIN:VEVENT
DTSTART;VALUE=DATE:20190820
DTEND;VALUE=DATE:20190822
DTSTAMP:20260423T225806
CREATED:20190820T082957Z
LAST-MODIFIED:20190820T082957Z
UID:1312-1566277200-1566363599@twentymiletavern.com
SUMMARY:Test event
DESCRIPTION:Testing the cross-posting of events to the blog
URL:https://twentymiletavern.com/event/test-event/
CATEGORIES:blog
END:VEVENT
BEGIN:VEVENT
DTSTART;VALUE=DATE:20190820
DTEND;VALUE=DATE:20190822
DTSTAMP:20260423T225806
CREATED:20190819T211715Z
LAST-MODIFIED:20190820T085020Z
UID:1299-1566277200-1566363599@twentymiletavern.com
SUMMARY:Website Launch
DESCRIPTION:Hooray!
URL:https://twentymiletavern.com/event/website-launch/
LOCATION:Twenty Mile Tavern
END:VEVENT
END:VCALENDAR